BEGIN:VCALENDAR
VERSION:2.0
PRODID:-//ChamberMaster//Event Calendar 2.0//EN
METHOD:PUBLISH
X-PUBLISHED-TTL:P3D
REFRESH-INTERVAL:P3D
CALSCALE:GREGORIAN
BEGIN:VEVENT
DTSTART:20170110T003000Z
DTEND:20170110T023000Z
X-MICROSOFT-CDO-ALLDAYEVENT:FALSE
SUMMARY:JP Morgan Healthcare Conference Reception
DESCRIPTION:Polsinelli and MATTER cordially invite you to JOIN US during the 2017 J.P. Morgan Healthcare Conference in San Francisco. Meet\, mingle and unwind in the heart of Union Square as you network among friends and colleagues and enjoy a modern twist on classic cocktails\, seasonal inspired hors d'oeuvres while enjoying the stunning views of San Francisco.\n\n									\n\n									 \n\n									\n										\n											\n												\n												QUESTIONS:\n												\n											\n											\n												\n												If you have questions or would like more information\, contact Meg Cornell at mcornell@polsinelli.com or 800.473.6014.\n												\n											\n											\n												\n												\n													\n														\n															\n															Special thanks to our bar sponsor\, Health Wildcatters.
X-ALT-DESC;FMTTYPE=text/html:<table cellpadding="0" cellspacing="0" style="color: rgb(0\, 0\, 0)\; text-transform: none\; text-indent: 0px\; letter-spacing: normal\; font-family: arial\,sans-serif\; font-size: 14px\; word-spacing: 0px\; white-space: normal\; orphans: 2\; widows: 2\; background-color: rgb(255\, 255\, 255)\;" width="650">\n	<tbody>\n		<tr>\n			<td style="font-family: arial\, sans-serif\; margin: 0px\;">\n			<table cellpadding="0" cellspacing="0" style="color: rgb(0\, 0\, 0)\; font-family: arial\, sans-serif\; font-size: 14px\; font-style: normal\; font-variant-ligatures: normal\; font-variant-caps: normal\; font-weight: normal\; letter-spacing: normal\; orphans: 2\; text-align: start\; text-indent: 0px\; text-transform: none\; white-space: normal\; widows: 2\; word-spacing: 0px\; -webkit-text-stroke-width: 0px\; background-color: rgb(255\, 255\, 255)\;" width="650">\n				<tbody>\n					<tr>\n						<td style="font-family: arial\, sans-serif\; margin: 0px\;">\n						<table cellpadding="1" width="100%">\n							<tbody>\n								<tr>\n									<td style="font-family: arial\, sans-serif\; margin: 0px\;">&nbsp\;</td>\n								</tr>\n								<tr>\n									<td style="font-family: arial\, sans-serif\; margin: 0px\;">\n									<p align="left" style="font-style: normal\; font-variant: normal\; font-weight: normal\; font-stretch: normal\; font-size: 13px\; line-height: 21px\; font-family: &quot\;century gothic&quot\;\, &quot\;Century Gothic&quot\;\, verdana\, Verdana\, Geneva\, sans-serif\; color: rgb(19\, 18\, 96)\;"><font color="#333333"><font color="#ae6a07">Polsinelli</font> and <font color="#ae6a07">MATTER</font> cordially invite you to <font color="#031b53">JOIN US</font> during the <strong>2017 J.P. Morgan Healthcare Conference</strong> in San Francisco. Meet\, mingle and unwind in the heart of Union Square as you network among friends and colleagues and enjoy a modern twist on classic cocktails\, seasonal inspired hors d&#39\;oeuvres while enjoying the stunning views of San Francisco.</font><br />\n									<br />\n									&nbsp\;</p>\n\n									<table cellpadding="1" style="color: rgb(0\, 0\, 0)\; font-family: arial\, sans-serif\; font-size: 14px\; font-style: normal\; font-variant-ligatures: normal\; font-variant-caps: normal\; font-weight: normal\; letter-spacing: normal\; orphans: 2\; text-align: start\; text-indent: 0px\; text-transform: none\; white-space: normal\; widows: 2\; word-spacing: 0px\; -webkit-text-stroke-width: 0px\; background-color: rgb(255\, 255\, 255)\;" width="100%">\n										<tbody>\n											<tr>\n												<td style="font-family: arial\, sans-serif\; margin: 0px\;">\n												<p align="left" style="font-style: normal\; font-variant: normal\; font-weight: normal\; font-stretch: normal\; font-size: 10px\; line-height: 15px\; font-family: arial\, Arial\, Helvetica\, sans-serif\;"><strong><font color="#666666">QUESTIONS:</font></strong></p>\n												</td>\n											</tr>\n											<tr>\n												<td style="font-family: arial\, sans-serif\; margin: 0px\;">\n												<p align="left" style="font-style: normal\; font-variant: normal\; font-weight: normal\; font-stretch: normal\; font-size: 13px\; line-height: 21px\; font-family: &quot\;century gothic&quot\;\, &quot\;Century Gothic&quot\;\, verdana\, Verdana\, Geneva\, sans-serif\; color: rgb(19\, 18\, 96)\;"><font color="#333333">If you have questions or would like more information\, contact Meg Cornell at <a style="color: rgb(17\, 85\, 204)\;" target="_blank">mcornell</a><a style="color: rgb(17\, 85\, 204)\;" target="_blank">@polsinelli.com</a> or <a href="tel:800.473.6014" style="color: rgb(17\, 85\, 204)\;" target="_blank" value="+18004736014">800.473.6014</a>.</font></p>\n												</td>\n											</tr>\n											<tr>\n												<td style="font-family: arial\, sans-serif\; margin: 0px\;">\n												<table cellpadding="0" cellspacing="0" width="100%">\n													<tbody>\n														<tr>\n															<td style="font-family: arial\, sans-serif\; margin: 0px\;">\n															<p align="left" style="font-style: normal\; font-variant: normal\; font-weight: normal\; font-stretch: normal\; font-size: 13px\; line-height: 21px\; font-family: &quot\;century gothic&quot\;\, &quot\;Century Gothic&quot\;\, verdana\, Verdana\, Geneva\, sans-serif\; color: rgb(19\, 18\, 96)\;"><font color="#333333">Special thanks to our bar sponsor\, <font color="#ae6a07">Health Wildcatters</font>.</font></p>\n															</td>\n														</tr>\n													</tbody>\n												</table>\n												</td>\n											</tr>\n										</tbody>\n									</table>\n									</td>\n								</tr>\n							</tbody>\n						</table>\n						</td>\n					</tr>\n				</tbody>\n			</table>\n			</td>\n		</tr>\n	</tbody>\n</table>\n
LOCATION:JW Marriott San Francisco Union Square 515 Mason Street 21st Floor - Skyline San Francisco\, CA 94102
UID:e.9395.50
SEQUENCE:3
DTSTAMP:20260423T113321Z
URL:http://business.kctechcouncil.com/events/details/jp-morgan-healthcare-conference-reception-50
END:VEVENT

END:VCALENDAR
