BEGIN:VCALENDAR
VERSION:2.0
PRODID:-//ChamberMaster//Event Calendar 2.0//EN
METHOD:PUBLISH
X-PUBLISHED-TTL:P3D
REFRESH-INTERVAL:P3D
CALSCALE:GREGORIAN
BEGIN:VEVENT
DTSTART:20160615T123000Z
DTEND:20160615T143000Z
X-MICROSOFT-CDO-ALLDAYEVENT:FALSE
SUMMARY:Smart & Safe City Event - Presented by Hitachi Data Systems
DESCRIPTION:You're invited!\n\nSmart cities are coming of age right before our eyes.  Please join us for an inspiring and educational event at Union Station. Get a glimpse at state-of-the-art connected intelligence solutions being used by leading companies and forward-thinking organizations across the world.\n\n\n\nCome listen and engage with panelist of experts from Hitachi\, Cisco and Sprint on their experiences on leveraging analytical insight to support public safety and smart communities.\n\n\n\nKeynote:\n\nFred Ellermeier - Vice President\, Smart & Integrated Infrastructure - Black & Veatch\n\nKate Garman - Innovation Analyst - City of KCMO\n\n\n\nPanelists:\n\nDarrin Lipscomb\, CTO Public Safety and Smart Cities - Hitachi Insights\n\nRoss Harmon - Director of Business Development - Hitachi Consulting\n\nSprint: Mo Nasser - Sr. Director\, IOT/Business Applications Products  - Sprint\n\nJake Butterbaugh - Global Sales Director  - Energy & Asset Management (IOT) Sales - Cisco \n\n\n\nAgenda:\n\n7:30am - 8:00am: Breakfast & Networking\n\n8:00am - 9:00am: Program\n\n9:00am - 9:30am: Q&A/Networking
X-ALT-DESC;FMTTYPE=text/html:<strong style="color: rgb(0\, 0\, 0)\; font-family: 'Times New Roman'\, serif\; font-size: 16px\; line-height: 19.696px\;"><span style="font-size: 10pt\; font-family: Arial\, sans-serif\;">You&#39\;re invited!</span></strong><br />\n<span style="color: rgb(0\, 0\, 0)\; font-size: 10pt\; font-family: Arial\, sans-serif\;">Smart cities are coming of age right before our eyes.&nbsp\; Please join us for an inspiring and educational event at Union Station. Get a glimpse at state-of-the-art connected intelligence solutions being used by leading companies and forward-thinking organizations across the world.<br />\n<br />\nCome listen and engage with panelist of experts from Hitachi\, Cisco and Sprint on their experiences on leveraging analytical insight to support public safety and smart communities.<br />\n<br />\nKeynote:<br />\nFred Ellermeier - Vice President\, Smart &amp\; Integrated Infrastructure - Black &amp\; Veatch<br />\nKate Garman - Innovation Analyst - City of KCMO<br />\n<br />\nPanelists:<br />\nDarrin Lipscomb\, CTO Public Safety and Smart Cities - Hitachi Insights<br />\nRoss Harmon - Director of Business Development - Hitachi Consulting<br />\nSprint: Mo Nasser - Sr. Director\, IOT/Business Applications Products &nbsp\;- Sprint<br />\nJake Butterbaugh - Global Sales Director &nbsp\;- Energy &amp\; Asset Management (IOT) Sales - Cisco&nbsp\;<br />\n<br />\nAgenda:<br />\n7:30am - 8:00am: Breakfast &amp\; Networking<br />\n8:00am - 9:00am: Program<br />\n9:00am - 9:30am: Q&amp\;A/Networking&nbsp\;</span>
LOCATION:Union Station (30 W. Pershing Rd Kansas City\, MO 64108) Arthur Stilwell Room - located on the C-Level next to the Grand Gallery
UID:e.9395.1
SEQUENCE:3
DTSTAMP:20260424T014032Z
URL:http://business.kctechcouncil.com/events/details/smart-safe-city-event-presented-by-hitachi-data-systems-06-15-2016-1
END:VEVENT

END:VCALENDAR
