BEGIN:VCALENDAR
VERSION:2.0
PRODID:-//ChamberMaster//Event Calendar 2.0//EN
METHOD:PUBLISH
X-PUBLISHED-TTL:P3D
REFRESH-INTERVAL:P3D
CALSCALE:GREGORIAN
BEGIN:VEVENT
DTSTART;VALUE=DATE:20160614
DTEND;VALUE=DATE:20160615
TRANSP:TRANSPARENT
X-MICROSOFT-CDO-ALLDAYEVENT:TRUE
SUMMARY:Workforce Excellence Conference
DESCRIPTION:The "Workforce Excellence Conference" is a game-changer for senior business executives. The objective of the conference is to create a "Learning Organization" that will attract and readily assimilate the next generation of tech-savvy millennials\, and accelerate their professional growth in order to fill the widening experience gap in our industrial base created by retiring boomers. This solutions-focused conference will address the most challenging topics facing business leaders today. Attracting and retaining workforce is directly linked to obtaining optimal outcomes in safety\, quality and profits. Conference presenters include some of the leading experts in Kansas\, and our nation\, on these critical business issues. Presenters: * Brandon Rigoni\, PhD\, Associate Director Gallup * The Honorable Antonio Soave Kansas Secretary of Commerce ?* Blake Flanders\, PhD\, President & CEO? Kansas Board of Regents * Brian Brurud\, Founder * Jason McAlister\, Vice President Check-6 International Inc.
X-ALT-DESC;FMTTYPE=text/html:The &quot\;Workforce Excellence Conference&quot\; is a game-changer for senior business executives. The objective of the conference is to create a &ldquo\;Learning Organization&rdquo\; that will attract and readily assimilate the next generation of tech-savvy millennials\, and accelerate their professional growth in order to fill the widening experience gap in our industrial base created by retiring boomers. This solutions-focused conference will address the most challenging topics facing business leaders today. Attracting and retaining workforce is directly linked to obtaining optimal outcomes in safety\, quality and profits. Conference presenters include some of the leading experts in Kansas\, and our nation\, on these critical business issues. Presenters: * Brandon Rigoni\, PhD\, Associate Director Gallup * The Honorable Antonio Soave Kansas Secretary of Commerce ?* Blake Flanders\, PhD\, President &amp\; CEO? Kansas Board of Regents * Brian Brurud\, Founder * Jason McAlister\, Vice President Check-6 International Inc.
LOCATION:Johnson County Community College GEB Building\, Craig Community Auditorium (2nd Floor)
UID:e.9395.4
SEQUENCE:3
DTSTAMP:20260424T013914Z
URL:http://business.kctechcouncil.com/events/details/workforce-excellence-conference-06-14-2016-4
END:VEVENT

END:VCALENDAR
