BEGIN:VCALENDAR
VERSION:2.0
PRODID:-//ChamberMaster//Event Calendar 2.0//EN
METHOD:PUBLISH
X-PUBLISHED-TTL:P3D
REFRESH-INTERVAL:P3D
CALSCALE:GREGORIAN
BEGIN:VEVENT
DTSTART:20200806T130000Z
DTEND:20200807T170000Z
X-MICROSOFT-CDO-ALLDAYEVENT:FALSE
SUMMARY:The CEO Retreat - CANCELLED
DESCRIPTION:Please note\, due to COVID-19\, we have decided to cancel The CEO Retreat\, our annual overnight gathering of Kansas City's top tech business leaders held at Maple Ranch. It's such a privilege to connect these tech leaders\, and we look forward to continuing those efforts by providing value in new\, creative\, and remote ways. If you're a CEO or highest-ranking local official and would like to receive those details\, please don't hesitate to reach out. \n\n\n\nThe CEO Retreat is one of the KC Tech Council's most exclusive events. Invitations are highly sought after\, and previous attendees are eager to return. More than one-hundred local leaders come together to learn from industry influencers\, network with fellow CEOs and of course\, retreat.\n\n\n\nThis retreat is designed with Kansas City CEOs in mind. The KC Tech Council diligently seeks high-level speakers and unique programming that attendees wouldn't experience otherwise. In addition to well-curated programming\, the retreat itself is exclusive in every sense of the word. Attendees must be a CEO or highest-ranking local official at an active KCTC member company or premier sponsor. The venue is located at a beautiful ranch south of Kansas City\, offering a wide range of amenities. Nature trails\, fishing and shooting ranges are all at the guest's disposal. \n\n\n\nInterested in sponsoring the CEO Retreat? Contact Kara Lowe.\n\n \n\nSpace is limited and rooms for attendees are provided on a first-come\, first-serve basis.\n\n\n\nATTENDEE QUALIFICATIONS\n\n\n	Chief Executive Officer or President\n	If the company CEO is not based in Kansas City\, the highest-ranking local official qualifies. Examples of these titles include\, but are not limited to\, other C-Level (CXO) positions\, Senior Vice President\, Vice President\, or other leadership level positions.\n	Company must be an active member of the KC Tech Council \n\n\n\n\nCONTENT SUMMARY \n\n\n\nThursday\, August 6th\n\n Registration | 8:00 a.m. - 8:45 a.m.\n\nProgram begins | 9:00 a.m.\n\nProgram concludes | 9:00 p.m.\n\n\n\nFriday\, August 7th \n\nBreakfast | 8:00 a.m.\n\nRanch Activities Conclude | 12:00 p.m.\n\nThere will be no program on  this day. Overnight guests are encouraged to enjoy Maple Ranch before departing and checking out at noon. \n\n \n\nFAQs\n\n \n\nHow will this year's CEO Retreat content differ from the previous ones?\n\n \n\nDue to the current crisis\, this year's CEO Retreat will focus on topics such as honing in on our communication skills\, improving how we manage uncertainties and identifying appropriate plans and execution strategies.\n\n \n\nHow can I ensure my safety at this event?\n\n \n\nBesides following CDC guidelines\, we will also share steps to ensure our attendees' safety prior to the event. Due to the changing climate of the COVID-19 pandemic\, more timely suggestions and requirements will be provided as the date nears.\n\n \n\nWhat if I register but am unable to attend?\n\n \n\nOvernight rooms and day passes are eligible for a refund if canceled prior to July 1\, 2020.\n\n \n\nWhat do I wear?\n\n \n\nWear something comfortable that is suitable for ranch activities such as walking\, fishing and shooting.\n\n\n\nCan I see who's attending?\n\n \n\nYou can access the full list of attendees once you register for the event.\n\np.p1 {margin: 0.0px 0.0px 0.0px 0.0px\; font: 12.0px 'Helvetica Neue'\; color: #454545}\np.p2 {margin: 0.0px 0.0px 0.0px 0.0px\; font: 12.0px 'Helvetica Neue'\; color: #454545\; min-height: 14.0px}
X-ALT-DESC;FMTTYPE=text/html:<div class="p1"><span style="color:#B22222\;"><span style="font-family:arial\;"><strong><span style="font-size: 14px\;">Please note\, due to COVID-19\, we have decided to cancel The CEO Retreat\, our annual overnight gathering of Kansas City&#39\;s top tech business leaders held at Maple Ranch. It&rsquo\;s such a privilege to connect these tech leaders\, and we look forward to continuing those efforts by providing value in new\, creative\, and remote ways. If you&rsquo\;re a CEO or highest-ranking local official and would like to receive those details\, please don&#39\;t hesitate to <a href="mailto:ryan@kctechcouncil.com">reach out</a>.&nbsp\;</span></strong></span></span><br />\n<br />\n<span style="font-family:arial\;"><span style="font-size:14px\;"><font color="#000000">The CEO Retreat is one of the KC Tech Council&#39\;s most exclusive events. Invitations are highly sought after\, and previous attendees are eager to return. More than one-hundred&nbsp\;local leaders come together to learn from industry influencers\, network with fellow CEOs and of course\,&nbsp\;retreat.<br />\n<br />\nThis retreat is designed with Kansas City CEOs in mind. The KC Tech Council diligently seeks high-level speakers and unique programming that attendees wouldn&#39\;t experience otherwise. In addition to well-curated programming\, the retreat itself is exclusive in every sense of the word. Attendees must be a CEO or highest-ranking local official at an active KCTC member company or premier sponsor. The venue is located at a beautiful ranch south of Kansas City\, offering a wide range of amenities. Nature trails\, fishing and shooting ranges are all at the guest&#39\;s disposal.&nbsp\;<br />\n<br />\nInterested in sponsoring the CEO Retreat? Contact <u><a href="mailto:kara@kctechcouncil.com?subject=The%20CEO%20Retreat%20Sponsorship">Kara Lowe</a></u>.</font><br />\n&nbsp\;<br />\n<span style="color:black\;">Space is limited and rooms for attendees are provided on a first-come\, first-serve basis.<br />\n<br />\n<u>ATTENDEE QUALIFICATIONS</u></span></span></span></div>\n\n<ul>\n	<li class="p1"><span style="font-family:arial\;"><span style="font-size:14px\;"><span style="color:black\;">Chief Executive Officer or President</span></span></span></li>\n	<li class="p1"><span style="font-family:arial\;"><span style="font-size:14px\;"><span style="color:black\;">If the company CEO is not based in Kansas City\, the highest-ranking local official qualifies. Examples of these titles include\, but are not limited to\, other C-Level (CXO) positions\, Senior Vice President\, Vice President\, or other leadership level positions.</span></span></span></li>\n	<li class="p1"><span style="font-family:arial\;"><span style="font-size:14px\;"><span style="color:black\;">Company must be an active member of the KC Tech Council&nbsp\;</span></span></span></li>\n</ul>\n\n<div class="p1"><br />\n<span style="font-family:arial\;"><span style="font-size:14px\;"><u>CONTENT SUMMARY&nbsp\;</u><br />\n<br />\n<strong>Thursday\, August 6th</strong><br />\n&#8203\;Registration | 8:00 a.m. - 8:45 a.m.<br />\nProgram begins | 9:00&nbsp\;a.m.<br />\nProgram concludes | 9:00 p.m.<br />\n<br />\n<strong>Friday\, August 7th </strong><br />\nBreakfast | 8:00 a.m.<br />\nRanch Activities Conclude | 12:00 p.m.<br />\nThere will be no program on&nbsp\;&#8203\;this day. Overnight guests are encouraged to enjoy Maple Ranch before departing and checking out at noon.&nbsp\;</span></span>\n\n<p class="p2" style="font-family: Helvetica\; color: rgb(0\, 0\, 0)\;">&nbsp\;</p>\n\n<p class="p1" style="font-family: Helvetica\; color: rgb(0\, 0\, 0)\;"><span style="font-family:arial\;"><span style="font-size:14px\;"><strong>FAQs</strong></span></span></p>\n\n<p class="p2" style="font-family: Helvetica\; color: rgb(0\, 0\, 0)\;">&nbsp\;</p>\n\n<p class="p1" style="font-family: Helvetica\; color: rgb(0\, 0\, 0)\;"><span style="font-family:arial\;"><span style="font-size:14px\;"><em><strong>How will this year&rsquo\;s CEO Retreat content differ from the previous ones?</strong></em></span></span></p>\n\n<p class="p2" style="font-family: Helvetica\; color: rgb(0\, 0\, 0)\;">&nbsp\;</p>\n\n<p class="p2" style="font-family: Helvetica\; color: rgb(0\, 0\, 0)\;"><span style="font-family:arial\;"><span style="font-size:14px\;">Due to the current crisis\, this year&rsquo\;s CEO Retreat will focus on topics such as honing in on our communication skills\, improving how we manage uncertainties and identifying appropriate plans and execution strategies.</span></span></p>\n\n<p class="p2" style="font-family: Helvetica\; color: rgb(0\, 0\, 0)\;">&nbsp\;</p>\n\n<p class="p2" style="font-family: Helvetica\; color: rgb(0\, 0\, 0)\;"><span style="font-family:arial\;"><span style="font-size:14px\;"><em><strong>How can I ensure my safety at this event?</strong></em></span></span></p>\n\n<p class="p2" style="font-family: Helvetica\; color: rgb(0\, 0\, 0)\;">&nbsp\;</p>\n\n<p class="p1" style="font-family: Helvetica\; color: rgb(0\, 0\, 0)\;"><span style="font-family:arial\;"><span style="font-size:14px\;">Besides following CDC guidelines\, we will also share steps to ensure our attendees&#39\; safety prior to the event. Due to the changing climate of the COVID-19 pandemic\, more timely suggestions and requirements will be provided as the date nears.</span></span></p>\n\n<p class="p2" style="font-family: Helvetica\; color: rgb(0\, 0\, 0)\;">&nbsp\;</p>\n\n<p class="p1" style="font-family: Helvetica\; color: rgb(0\, 0\, 0)\;"><span style="font-family:arial\;"><span style="font-size:14px\;"><em><strong>What if I register but am unable to attend?</strong></em></span></span></p>\n\n<p class="p2" style="font-family: Helvetica\; color: rgb(0\, 0\, 0)\;">&nbsp\;</p>\n\n<p class="p1" style="font-family: Helvetica\; color: rgb(0\, 0\, 0)\;"><span style="font-family:arial\;"><span style="font-size:14px\;">Overnight rooms and day passes are eligible for a refund if canceled prior to July 1\, 2020.</span></span></p>\n\n<p class="p2" style="font-family: Helvetica\; color: rgb(0\, 0\, 0)\;">&nbsp\;</p>\n\n<p class="p1" style="font-family: Helvetica\; color: rgb(0\, 0\, 0)\;"><span style="font-family:arial\;"><span style="font-size:14px\;"><em><strong>What do I wear?</strong></em></span></span></p>\n\n<p class="p2" style="font-family: Helvetica\; color: rgb(0\, 0\, 0)\;">&nbsp\;</p>\n\n<p class="p1" style="font-family: Helvetica\; color: rgb(0\, 0\, 0)\;"><span style="font-family:arial\;"><span style="font-size:14px\;">Wear something comfortable that is suitable for ranch activities such as walking\, fishing and shooting.</span></span></p>\n\n<p class="p1" style="font-family: Helvetica\; color: rgb(0\, 0\, 0)\;"><br />\n<span style="font-family:arial\;"><span style="font-size:14px\;"><em><strong>Can I see who&rsquo\;s attending?</strong></em></span></span></p>\n\n<p class="p2" style="font-family: Helvetica\; color: rgb(0\, 0\, 0)\;">&nbsp\;</p>\n\n<p class="p1" style="font-family: Helvetica\; color: rgb(0\, 0\, 0)\;"><span style="font-family:arial\;"><span style="font-size:14px\;">You can access the full list of attendees once you register for the event.</span></span></p>\n</div>\n<style type="text/css">p.p1 {margin: 0.0px 0.0px 0.0px 0.0px\; font: 12.0px 'Helvetica Neue'\; color: #454545}\np.p2 {margin: 0.0px 0.0px 0.0px 0.0px\; font: 12.0px 'Helvetica Neue'\; color: #454545\; min-height: 14.0px}\n</style>\n
LOCATION:Maple Ranch is located approximately one hour south of downtown Kansas City. A map and driving directions will be sent via email prior to the event\, only. This is an exclusive\, invite-only location so you won't find any online information about Maple Ranch. Please contact us directly if you have a question.
UID:e.9395.247
SEQUENCE:3
DTSTAMP:20260419T222517Z
URL:https://business.kctechcouncil.com/events/details/the-ceo-retreat-cancelled-247
END:VEVENT

END:VCALENDAR
